BEGIN:VCALENDAR
VERSION:2.0
PRODID:-//Erie County Democratic Committee - ECPv6.15.18//NONSGML v1.0//EN
CALSCALE:GREGORIAN
METHOD:PUBLISH
X-WR-CALNAME:Erie County Democratic Committee
X-ORIGINAL-URL:https://ecdems.com
X-WR-CALDESC:Events for Erie County Democratic Committee
REFRESH-INTERVAL;VALUE=DURATION:PT1H
X-Robots-Tag:noindex
X-PUBLISHED-TTL:PT1H
BEGIN:VTIMEZONE
TZID:America/New_York
BEGIN:DAYLIGHT
TZOFFSETFROM:-0500
TZOFFSETTO:-0400
TZNAME:EDT
DTSTART:20250309T070000
END:DAYLIGHT
BEGIN:STANDARD
TZOFFSETFROM:-0400
TZOFFSETTO:-0500
TZNAME:EST
DTSTART:20251102T060000
END:STANDARD
BEGIN:DAYLIGHT
TZOFFSETFROM:-0500
TZOFFSETTO:-0400
TZNAME:EDT
DTSTART:20260308T070000
END:DAYLIGHT
BEGIN:STANDARD
TZOFFSETFROM:-0400
TZOFFSETTO:-0500
TZNAME:EST
DTSTART:20261101T060000
END:STANDARD
BEGIN:DAYLIGHT
TZOFFSETFROM:-0500
TZOFFSETTO:-0400
TZNAME:EDT
DTSTART:20270314T070000
END:DAYLIGHT
BEGIN:STANDARD
TZOFFSETFROM:-0400
TZOFFSETTO:-0500
TZNAME:EST
DTSTART:20271107T060000
END:STANDARD
END:VTIMEZONE
BEGIN:VEVENT
DTSTART;TZID=America/New_York:20260422T180000
DTEND;TZID=America/New_York:20260422T200000
DTSTAMP:20260422T022555
CREATED:20260320T192059Z
LAST-MODIFIED:20260320T192059Z
UID:10182-1776880800-1776888000@ecdems.com
SUMMARY:City of Tonawanda Democratic Committee- Spring Fundraiser
DESCRIPTION:When? Wednesday\, April 22\, 2026 6:00 PM – 8:00 PM \nWhat? City of Tonawanda Democratic committee Spring Fundraiser \nWhere?  Ronald J. Pilozzi Pavilion600 Niagara StreetTonawanda\, NY \nCost? $50 per person \nProgram Book SponsorshipsFull Page – $500 (includes 2 tickets)Half Page – $250 (includes 1 ticket)
URL:https://ecdems.com/calendar/city-of-tonawanda-democratic-committee-spring-fundraiser/
LOCATION:Niawanda Park Pavilion\, 600 Niagara St\, Tonawanda\, NY\, 14150\, United States
ATTACH;FMTTYPE=image/jpeg:https://ecdems.com/wp-content/uploads/2026/03/654650733_1377376471089680_2258063832882286626_n.jpg
END:VEVENT
END:VCALENDAR