BEGIN:VCALENDAR
VERSION:2.0
PRODID:-//Erie County Democratic Committee - ECPv6.15.18//NONSGML v1.0//EN
CALSCALE:GREGORIAN
METHOD:PUBLISH
X-WR-CALNAME:Erie County Democratic Committee
X-ORIGINAL-URL:https://ecdems.com
X-WR-CALDESC:Events for Erie County Democratic Committee
REFRESH-INTERVAL;VALUE=DURATION:PT1H
X-Robots-Tag:noindex
X-PUBLISHED-TTL:PT1H
BEGIN:VTIMEZONE
TZID:America/New_York
BEGIN:DAYLIGHT
TZOFFSETFROM:-0500
TZOFFSETTO:-0400
TZNAME:EDT
DTSTART:20250309T070000
END:DAYLIGHT
BEGIN:STANDARD
TZOFFSETFROM:-0400
TZOFFSETTO:-0500
TZNAME:EST
DTSTART:20251102T060000
END:STANDARD
BEGIN:DAYLIGHT
TZOFFSETFROM:-0500
TZOFFSETTO:-0400
TZNAME:EDT
DTSTART:20260308T070000
END:DAYLIGHT
BEGIN:STANDARD
TZOFFSETFROM:-0400
TZOFFSETTO:-0500
TZNAME:EST
DTSTART:20261101T060000
END:STANDARD
BEGIN:DAYLIGHT
TZOFFSETFROM:-0500
TZOFFSETTO:-0400
TZNAME:EDT
DTSTART:20270314T070000
END:DAYLIGHT
BEGIN:STANDARD
TZOFFSETFROM:-0400
TZOFFSETTO:-0500
TZNAME:EST
DTSTART:20271107T060000
END:STANDARD
END:VTIMEZONE
BEGIN:VEVENT
DTSTART;TZID=America/New_York:20260507T170000
DTEND;TZID=America/New_York:20260507T183000
DTSTAMP:20260420T085355
CREATED:20260417T183438Z
LAST-MODIFIED:20260417T183556Z
UID:10232-1778173200-1778178600@ecdems.com
SUMMARY:Cheers and Chill Happy Hour
DESCRIPTION:What? Cheers and Chill Happy Hour \nWhere? Sports City Pizza Pub at 1407 Niagara St\, Buffalo\, NY 14213 \nWhen? Thursday May 7th 5-6:30pm \nCost? $25 general \nSponsorships: $250\, $500\, $1000 Levels
URL:https://ecdems.com/calendar/cheers-and-chill-happy-hour/
LOCATION:Sports City Pizza Pub\, 1407 Niagara St\, Buffalo\, 14213\, United States
ATTACH;FMTTYPE=image/png:https://ecdems.com/wp-content/uploads/2026/04/Screen-Shot-2026-04-17-at-2.32.56-PM.png
END:VEVENT
BEGIN:VEVENT
DTSTART;TZID=America/New_York:20260507T180000
DTEND;TZID=America/New_York:20260507T200000
DTSTAMP:20260420T085355
CREATED:20260405T025016Z
LAST-MODIFIED:20260405T025016Z
UID:10196-1778176800-1778184000@ecdems.com
SUMMARY:Senator Zellner's Buffalo Spring Reception
DESCRIPTION:What? Join us for our first big event of the Primary Election. The June primary is right around the corner\, and Jeremy needs\nour help to start spreading his message and record of fighting for the 61st district. \nWhen? Thursday\, May 7th from 6:00 pm – 8:00 pm \nWhere? Britesmith Brewing \n1250 Niagara St. Ste 400\, Buffalo\, NY 14213 \nCost: $250 \nSponsorships: Silver- $500\, Gold- $1000\, Platinum- $2500\, Host- $5000 \nPurchase tickets online here: Spring Reception in Support of Senator Jeremy Zellner or make checks payable to ‘Friends of Jeremy Zellner’ PO Box 1290 Buffalo\, NY 14213
URL:https://ecdems.com/calendar/senator-zellners-buffalo-spring-reception/
LOCATION:Britesmith Brewing\, 1250 Niagara Street Suite 400\, Buffalo\, NY\, 14213\, United States
ATTACH;FMTTYPE=image/png:https://ecdems.com/wp-content/uploads/2026/04/Sen.-Zellner-Spring-Reception-Graphic.png
END:VEVENT
BEGIN:VEVENT
DTSTART;TZID=America/New_York:20260520T173000
DTEND;TZID=America/New_York:20260520T193000
DTSTAMP:20260420T085355
CREATED:20260406T171019Z
LAST-MODIFIED:20260406T171019Z
UID:10200-1779298200-1779305400@ecdems.com
SUMMARY:Cocktail Reception with Lisa Chimera
DESCRIPTION:When? 5:30-7:30pm on Monday May the 20th \nWhat? Cocktail Reception with Lisa Chimera \nWhere?  The Delaware (3410 Delaware in Kenmore). \n\nCost: 99 per person\, 75 for committee members; 500\, 1000\, 2500 for Bronze\, Silver\, Gold sponsorships.
URL:https://ecdems.com/calendar/cocktail-reception-with-lisa-chimera/
LOCATION:The Delaware\, 3410 Delaware\, Kenmore\, NY\, 14217\, United States
END:VEVENT
BEGIN:VEVENT
DTSTART;TZID=America/New_York:20260708T173000
DTEND;TZID=America/New_York:20260708T190000
DTSTAMP:20260420T085355
CREATED:20260414T213032Z
LAST-MODIFIED:20260414T213932Z
UID:10226-1783531800-1783537200@ecdems.com
SUMMARY:Beef on Hardweck Fundraiser
DESCRIPTION:Join us to support Kevin Hardwick at his annual Beef on Hardweck event. \nWhen? Wednesday\, July 8th\n5:30PM-7:00PM \nWhere? Niawanda Park Ronald J. Pilozzi Pavilion\n150 Fillmore Ave City of Tonawanda NY 14150 \nCost? TBD
URL:https://ecdems.com/calendar/beef-on-hardweck-fundraiser/
LOCATION:Niawanda Park Pavilion\, 600 Niagara St\, Tonawanda\, NY\, 14150\, United States
END:VEVENT
END:VCALENDAR